BEGIN:VCALENDAR
VERSION:2.0
PRODID:-//Tukios.com/
BEGIN:VEVENT
UID:2d819d71-2e18-4045-bdba-162847102ddd@www.divinepreservationatl.com
DTSTAMP:20260425T234749Z
DTSTART:20260502
SUMMARY:Interment
DESCRIPTION:
URL:https://www.divinepreservationatl.com/obituaries/jordan-brown
LOCATION:Chance Hill Baptist Church 16463 GA Hwy 129  Dry Branch GA 31020
GEO:32.7050336;-83.5426428
END:VEVENT
END:VCALENDAR