BEGIN:VCALENDAR
VERSION:2.0
PRODID:-//Tukios.com/
BEGIN:VEVENT
UID:f3447aeb-1a06-4210-8c2c-e719e5adf239@www.divinepreservationatl.com
DTSTAMP:20260425T234631Z
DTSTART:20260502T180000Z
DTEND:20260502T190000Z
SUMMARY:Funeral Service
DESCRIPTION:
URL:https://www.divinepreservationatl.com/obituaries/jordan-brown
LOCATION:Greater New Corinth Missionary 687 Robert Henry St  Macon GA 
	31206
GEO:32.8039474;-83.6490987
END:VEVENT
END:VCALENDAR