BEGIN:VCALENDAR
VERSION:2.0
PRODID:-//Tukios.com/
BEGIN:VEVENT
UID:56eec82c-29c5-46b7-8416-44eccb5ee83c@www.divinepreservationatl.com
DTSTAMP:20260425T235042Z
DTSTART:20260501T213000Z
DTEND:20260501T233000Z
SUMMARY:Viewing
DESCRIPTION:
URL:https://www.divinepreservationatl.com/obituaries/jordan-brown
LOCATION:Greater New Corinth Missionary 687 Robert Henry St  Macon GA 
	31206
GEO:32.8039474;-83.6490987
END:VEVENT
END:VCALENDAR